BEGIN:VCALENDAR
VERSION:2.0
PRODID:-//urEZsolutions Suite - ECPv6.9.0//NONSGML v1.0//EN
CALSCALE:GREGORIAN
METHOD:PUBLISH
X-ORIGINAL-URL:http://software.bizstrattech.com
X-WR-CALDESC:Events for urEZsolutions Suite
REFRESH-INTERVAL;VALUE=DURATION:PT1H
X-Robots-Tag:noindex
X-PUBLISHED-TTL:PT1H
BEGIN:VTIMEZONE
TZID:UTC
BEGIN:STANDARD
TZOFFSETFROM:+0000
TZOFFSETTO:+0000
TZNAME:UTC
DTSTART:20170101T000000
END:STANDARD
END:VTIMEZONE
BEGIN:VEVENT
DTSTART;TZID=UTC:20171128T120000
DTEND;TZID=UTC:20171129T130000
DTSTAMP:20260425T155018
CREATED:20171110T154542Z
LAST-MODIFIED:20171110T154542Z
UID:266-1511870400-1511960400@software.bizstrattech.com
SUMMARY:Google Meet
DESCRIPTION:
URL:http://software.bizstrattech.com/event/google-meet/
LOCATION:Google Meeting Room
END:VEVENT
BEGIN:VEVENT
DTSTART;TZID=UTC:20171120T100000
DTEND;TZID=UTC:20171121T120000
DTSTAMP:20260425T155018
CREATED:20171110T154011Z
LAST-MODIFIED:20171110T155834Z
UID:260-1511172000-1511265600@software.bizstrattech.com
SUMMARY:In person Drop In times between 10 am - 12 pm
DESCRIPTION:In Willowbrook office
URL:http://software.bizstrattech.com/event/in-person-drop-in-times/
LOCATION:Willowbrook Office\, 625 Plainfield Road\, Willowbrook\, IL\, 60527
END:VEVENT
BEGIN:VEVENT
DTSTART;TZID=UTC:20171115T140000
DTEND;TZID=UTC:20171116T150000
DTSTAMP:20260425T155018
CREATED:20171110T153859Z
LAST-MODIFIED:20171110T154447Z
UID:258-1510754400-1510844400@software.bizstrattech.com
SUMMARY:Coffee Afternoon Chat
DESCRIPTION:
URL:http://software.bizstrattech.com/event/availability-for-skype/
LOCATION:Starbucks 515 Village Center Drive Burr Ridge\, IL\, 515 Village Center Drive\, Burr Ridge\, IL\, 60527\, United States
END:VEVENT
BEGIN:VEVENT
DTSTART;TZID=UTC:20171113T120000
DTEND;TZID=UTC:20171113T133000
DTSTAMP:20260425T155018
CREATED:20171110T152222Z
LAST-MODIFIED:20171110T152222Z
UID:249-1510574400-1510579800@software.bizstrattech.com
SUMMARY:Lunch with Vicki on upcoming interview
DESCRIPTION:Location to be determined
URL:http://software.bizstrattech.com/event/lunch-with-vicki-on-upcoming-interview/
LOCATION:TBD
END:VEVENT
BEGIN:VEVENT
DTSTART;TZID=UTC:20171111T080000
DTEND;TZID=UTC:20171112T093000
DTSTAMP:20260425T155018
CREATED:20171110T154139Z
LAST-MODIFIED:20171110T154730Z
UID:262-1510387200-1510479000@software.bizstrattech.com
SUMMARY:Coffee Chat
DESCRIPTION:Available at the Starbucks in BRVC\, for scheduled drop in quick chat and coffee.
URL:http://software.bizstrattech.com/event/coffee-chat/
LOCATION:Starbucks Lagrange\, 38 South La Grange Road\, LaGrange\, Illinois (IL)\, 60525
END:VEVENT
END:VCALENDAR